BEGIN:VCALENDAR
VERSION:2.0
PRODID:-//Squarespace Inc/Squarespace 6//v6//EN
BEGIN:VEVENT
UID:5e4e1db02d11b67b4e169465@squarespace.com
DTSTAMP:20200226T233625Z
DTSTART:20200404T140000Z
DTEND:20200404T210000Z
SUMMARY:Open Studios - Lynne Makings Studio
GEO:-37.549687;143.85826
LOCATION:513 Armstrong St North\, Soldiers Hill
END:VEVENT
END:VCALENDAR
