BEGIN:VCALENDAR
VERSION:2.0
PRODID:-//Squarespace Inc/Squarespace 6//v6//EN
BEGIN:VEVENT
UID:5e4dff6b4e11e600dcb00227@squarespace.com
DTSTAMP:20200226T232905Z
DTSTART:20200405T180000Z
DTEND:20200405T183000Z
SUMMARY:Open Studios - Talk: Line\, ink and wash &amp\; oils with Jon Lam
GEO:-37.561025;143.859575
LOCATION:Trades Hall\, 24 Camp Street\, Ballarat Central\, VIC\, 3350\, Aus
 tralia
END:VEVENT
END:VCALENDAR
