BEGIN:VCALENDAR
VERSION:2.0
PRODID:-//Squarespace Inc/Squarespace 6//v6//EN
BEGIN:VEVENT
UID:5e4dfa5a89317608602148db@squarespace.com
DTSTAMP:20200226T233703Z
DTSTART:20200404T140000Z
DTEND:20200404T210000Z
SUMMARY:Open Studios - Ballarat Society of Artists 
GEO:-37.561025;143.859575
LOCATION:Trades Hall\, 24 Camp Street\, Ballarat Central\, VIC\, 3350\, Aus
 tralia
END:VEVENT
END:VCALENDAR
