BEGIN:VCALENDAR
VERSION:2.0
PRODID:-//Squarespace Inc/Squarespace 6//v6//EN
BEGIN:VEVENT
UID:5e4b245271f6217a28d54159@squarespace.com
DTSTAMP:20200226T233011Z
DTSTART:20200411T140000Z
DTEND:20200411T210000Z
SUMMARY:Open Studios - Carolyn Elsworthy Studio
GEO:-37.526832;143.834114
LOCATION:368 Forest St\, Wendouree
END:VEVENT
END:VCALENDAR
