BEGIN:VCALENDAR
VERSION:2.0
PRODID:-//Squarespace Inc/Squarespace 6//v6//EN
BEGIN:VEVENT
UID:5e4b23472ab0db77e58e12a1@squarespace.com
DTSTAMP:20200226T233125Z
DTSTART:20200404T140000Z
DTEND:20200404T210000Z
SUMMARY:Open Studios - Carolyn Elsworthy Studio
GEO:-37.526832;143.834114
LOCATION:368 Forest St\, Wendouree
END:VEVENT
END:VCALENDAR
