BEGIN:VCALENDAR
VERSION:2.0
PRODID:-//Squarespace Inc/Squarespace 6//v6//EN
BEGIN:VEVENT
UID:5e4b248579fe5b341b5fdf16@squarespace.com
DTSTAMP:20200227T005710Z
DTSTART:20200412T140000Z
DTEND:20200412T210000Z
SUMMARY:Open Studios - Carolyn Elsworthy Studio
GEO:-37.526832;143.834114
LOCATION:368 Forest St\, Wendouree
END:VEVENT
END:VCALENDAR
