BEGIN:VCALENDAR
VERSION:2.0
PRODID:-//Squarespace Inc/Squarespace 6//v6//EN
BEGIN:VEVENT
UID:5e57588ec2a34a5be86d2340@squarespace.com
DTSTAMP:20200227T055016Z
DTSTART:20200411T140000Z
DTEND:20200411T210000Z
SUMMARY:Open Studios - Claymotion\, Dawn Whitehand (Copy)
GEO:-37.559776;143.858363
LOCATION:Claymotion\, 34A Mair Street\, Ballarat Central\, VIC\, 3350\, Aus
 tralia
END:VEVENT
END:VCALENDAR
