BEGIN:VCALENDAR
VERSION:2.0
PRODID:-//Squarespace Inc/Squarespace 6//v6//EN
BEGIN:VEVENT
UID:5e5758efed27505ea098a6d6@squarespace.com
DTSTAMP:20200325T043451Z
DTSTART:20200404T140000Z
DTEND:20200404T210000Z
SUMMARY:Open Studios - Claymotion\, Dawn Whitehand - CANCELLED
GEO:-37.559776;143.858363
LOCATION:Claymotion\, 34A Mair Street\, Ballarat Central\, VIC\, 3350\, Aus
 tralia
END:VEVENT
END:VCALENDAR
