BEGIN:VCALENDAR
VERSION:2.0
PRODID:-//Squarespace Inc/Squarespace 6//v6//EN
BEGIN:VEVENT
UID:5e575762db844f0ca13cbdad@squarespace.com
DTSTAMP:20200227T055043Z
DTSTART:20200412T140000Z
DTEND:20200412T210000Z
SUMMARY:Open Studios - Claymotion\, Dawn Whitehand
GEO:-37.559776;143.858363
LOCATION:Claymotion\, 34A Mair Street\, Ballarat Central\, VIC\, 3350\, Aus
 tralia
END:VEVENT
END:VCALENDAR
