BEGIN:VCALENDAR
VERSION:2.0
PRODID:-//Squarespace Inc/Squarespace 6//v6//EN
BEGIN:VEVENT
UID:5e4b1bab79fe5b341b5d9f45@squarespace.com
DTSTAMP:20200227T005654Z
DTSTART:20200410T140000Z
DTEND:20200410T190000Z
SUMMARY:Open Studios - #IWASLANDFILL Craft Challenge: Knit a Basket Worksho
 p
GEO:-37.56102;143.859343
LOCATION:CAM C108 Studios\, Old Court House\, Camp Street\, Ballarat East\, 
 VIC\, 3350\, Australia
END:VEVENT
END:VCALENDAR
