BEGIN:VCALENDAR
VERSION:2.0
PRODID:-//Squarespace Inc/Squarespace 6//v6//EN
BEGIN:VEVENT
UID:5e4b1db72ab0db77e58ca33c@squarespace.com
DTSTAMP:20200227T005622Z
DTSTART:20200411T140000Z
DTEND:20200411T190000Z
SUMMARY:Open Studios - #IWASLANDFILL Craft Challenge: Knit a Blanket/Shrug 
 Workshop
GEO:-37.56102;143.859343
LOCATION:CAM C108 Studios\, Old Court House\, Camp Street\, Ballarat East\, 
 VIC\, 3350\, Australia
END:VEVENT
END:VCALENDAR
