BEGIN:VCALENDAR
VERSION:2.0
PRODID:-//Squarespace Inc/Squarespace 6//v6//EN
BEGIN:VEVENT
UID:5e4b1b69b6e8306d01086c6b@squarespace.com
DTSTAMP:20200226T232506Z
DTSTART:20200405T140000Z
DTEND:20200405T210000Z
SUMMARY:Open Studios - Claymotion craft corner drop in.
GEO:-37.559776;143.858363
LOCATION:Claymotion\, 34A Mair Street\, Ballarat Central\, VIC\, 3350\, Aus
 tralia
END:VEVENT
END:VCALENDAR
