BEGIN:VCALENDAR
VERSION:2.0
PRODID:-//Squarespace Inc/Squarespace 6//v6//EN
BEGIN:VEVENT
UID:5e49e664dd42c458f362618f@squarespace.com
DTSTAMP:20200226T232828Z
DTSTART:20200411T150000Z
DTEND:20200411T170000Z
SUMMARY:Open Studios - Create your own handmade dish 
GEO:-37.55108;143.905428
LOCATION:Fairweather Gallery\, 158 Ryan Street\, Brown Hill\, VIC\, 3350\, 
 Australia
END:VEVENT
END:VCALENDAR
