BEGIN:VCALENDAR
VERSION:2.0
PRODID:-//Squarespace Inc/Squarespace 6//v6//EN
BEGIN:VEVENT
UID:5e432b9472d61415bcc2fa92@squarespace.com
DTSTAMP:20200220T051032Z
DTSTART:20200409T220000Z
DTEND:20200409T230000Z
SUMMARY:Open Studios - Textiles and Social Activism: From the Eureka Flag t
 o #MeToo
GEO:-37.564914;143.883741
LOCATION:Eureka Centre\, 102 Stawell Street South\, Eureka
END:VEVENT
END:VCALENDAR
