BEGIN:VCALENDAR
VERSION:2.0
PRODID:-//Squarespace Inc/Squarespace 6//v6//EN
BEGIN:VEVENT
UID:5e432cc29dfb6e57532cfea7@squarespace.com
DTSTAMP:20200220T050928Z
DTSTART:20200407T213000Z
DTEND:20200407T230000Z
SUMMARY:Open Studios - Talking History: The Story of the Eureka Flag
GEO:-37.564914;143.883741
LOCATION:Eureka Centre\, 102 Stawell Street South\, Eureka\, VIC\, 3350\, A
 ustralia
END:VEVENT
END:VCALENDAR
