BEGIN:VCALENDAR
VERSION:2.0
PRODID:-//Squarespace Inc/Squarespace 6//v6//EN
BEGIN:VEVENT
UID:5e57518fab65743ca353fb24@squarespace.com
DTSTAMP:20200325T043728Z
DTSTART:20200405T140000Z
DTEND:20200405T210000Z
SUMMARY:Open Studios - Fairweather Gallery - CANCELLED
GEO:-37.55108;143.905428
LOCATION:Fairweather Gallery\, 158 Ryan Street\, Brown Hill\, VIC\, 3350\, 
 Australia
END:VEVENT
END:VCALENDAR
