BEGIN:VCALENDAR
VERSION:2.0
PRODID:-//Squarespace Inc/Squarespace 6//v6//EN
BEGIN:VEVENT
UID:5e5751d14e2df005309d66d4@squarespace.com
DTSTAMP:20200227T052151Z
DTSTART:20200412T140000Z
DTEND:20200412T210000Z
SUMMARY:Open Studios - Fairweather Gallery
GEO:-37.55108;143.905428
LOCATION:Fairweather Gallery\, 158 Ryan Street\, Brown Hill\, VIC\, 3350\, 
 Australia
END:VEVENT
END:VCALENDAR
