BEGIN:VCALENDAR
VERSION:2.0
PRODID:-//Squarespace Inc/Squarespace 6//v6//EN
BEGIN:VEVENT
UID:5e4b27c8190cbb27f14163bc@squarespace.com
DTSTAMP:20200226T232523Z
DTSTART:20200405T143000Z
DTEND:20200405T203000Z
SUMMARY:Open Studios - Fibre Arts Australia 
GEO:-37.535643;143.83191
LOCATION:Ballarat Grammar\, 201 Forest Street\, Wendouree\, VIC\, 3355\, Au
 stralia
END:VEVENT
END:VCALENDAR
