BEGIN:VCALENDAR
VERSION:2.0
PRODID:-//Squarespace Inc/Squarespace 6//v6//EN
BEGIN:VEVENT
UID:5e432f4bf3256022ed3f93f6@squarespace.com
DTSTAMP:20200226T232913Z
DTSTART:20200405T193000Z
DTEND:20200405T203000Z
SUMMARY:Open Studios - Fiona Crawford: When you go looking for me\; I am no
 t there
GEO:-37.562091;143.857725
LOCATION:Post Office Gallery\, Cnr Sturt & Lydiard Street South\, Ballarat 
 Central
END:VEVENT
END:VCALENDAR
