BEGIN:VCALENDAR
VERSION:2.0
PRODID:-//Squarespace Inc/Squarespace 6//v6//EN
BEGIN:VEVENT
UID:5e4b2adcfd3ee771bdcac72c@squarespace.com
DTSTAMP:20200227T045402Z
DTSTART:20200411T140000Z
DTEND:20200411T210000Z
SUMMARY:Open Studios - Grace Bailey Studio 
GEO:-37.63534;143.878264
LOCATION:Grace Bailey Studio\, 403 Eddy Avenue\, Mount Helen\, VIC\, 3350\, 
 Australia
END:VEVENT
END:VCALENDAR
