BEGIN:VCALENDAR
VERSION:2.0
PRODID:-//Squarespace Inc/Squarespace 6//v6//EN
BEGIN:VEVENT
UID:5e4b2ac5b6e8306d010c683c@squarespace.com
DTSTAMP:20200226T232355Z
DTSTART:20200405T140000Z
DTEND:20200405T210000Z
SUMMARY:Open Studios - Grace Bailey Studio
GEO:-37.63534;143.878264
LOCATION:Grace Bailey Studio\, 403 Eddy Avenue\, Mount Helen\, VIC\, 3350\, 
 Australia
END:VEVENT
END:VCALENDAR
