BEGIN:VCALENDAR
VERSION:2.0
PRODID:-//Squarespace Inc/Squarespace 6//v6//EN
BEGIN:VEVENT
UID:5e4b282147efbd6a699af302@squarespace.com
DTSTAMP:20200325T043346Z
DTSTART:20200404T140000Z
DTEND:20200404T210000Z
SUMMARY:Open Studios - Grace Bailey Studio - CANCELLED
GEO:-37.63534;143.878264
LOCATION:Grace Bailey Studio\, 403 Eddy Avenue\, Mount Helen\, VIC\, 3350\, 
 Australia
END:VEVENT
END:VCALENDAR
