BEGIN:VCALENDAR
VERSION:2.0
PRODID:-//Squarespace Inc/Squarespace 6//v6//EN
BEGIN:VEVENT
UID:5e463262282c5b032ad558cd@squarespace.com
DTSTAMP:20200226T232409Z
DTSTART:20200405T140000Z
DTEND:20200405T210000Z
SUMMARY:Open Studios - Green Woodsmith
GEO:-37.657831;143.899746
LOCATION:73 Hastie Street\, Buninyong\, VIC\, 3357\, Australia
END:VEVENT
END:VCALENDAR
