BEGIN:VCALENDAR
VERSION:2.0
PRODID:-//Squarespace Inc/Squarespace 6//v6//EN
BEGIN:VEVENT
UID:5e58610d3c6ca469a7f896e1@squarespace.com
DTSTAMP:20200228T003848Z
DTSTART:20200411T140000Z
DTEND:20200411T210000Z
SUMMARY:Open Studios - Ian Kemp
GEO:-37.555971;143.859756
LOCATION:205 Seymour Street\, Soldiers Hill\, VIC\, 3350\, Australia
END:VEVENT
END:VCALENDAR
