BEGIN:VCALENDAR
VERSION:2.0
PRODID:-//Squarespace Inc/Squarespace 6//v6//EN
BEGIN:VEVENT
UID:5e585ef92ea6ee68504104bf@squarespace.com
DTSTAMP:20200325T042729Z
DTSTART:20200404T140000Z
DTEND:20200404T210000Z
SUMMARY:Open Studios - Ian Kemp - CANCELLED
GEO:-37.555971;143.859756
LOCATION:205 Seymour Street\, Soldiers Hill\, VIC\, 3350\, Australia
END:VEVENT
END:VCALENDAR
