BEGIN:VCALENDAR
VERSION:2.0
PRODID:-//Squarespace Inc/Squarespace 6//v6//EN
BEGIN:VEVENT
UID:5e4330c5907ec801dae24c2d@squarespace.com
DTSTAMP:20200227T005419Z
DTSTART:20200403T210000Z
DTEND:20200403T220000Z
SUMMARY:Open Studios - #IWASLANDFILL Craft Challenge Launch
GEO:-37.561091;143.858167
LOCATION:Art Space Ballarat\, 14 Lydiard Street North\, Ballarat Central\, 
 VIC\, 3350\, Australia
END:VEVENT
END:VCALENDAR
