BEGIN:VCALENDAR
VERSION:2.0
PRODID:-//Squarespace Inc/Squarespace 6//v6//EN
BEGIN:VEVENT
UID:5e4e18892921b265cf826e70@squarespace.com
DTSTAMP:20200226T233003Z
DTSTART:20200411T140000Z
DTEND:20200411T210000Z
SUMMARY:Open Studios - Joan Tallent Studio
GEO:-37.585487;143.80904
LOCATION:9 Benson Close\, Delacombe\, VIC\, 3356\, Australia
END:VEVENT
END:VCALENDAR
