BEGIN:VCALENDAR
VERSION:2.0
PRODID:-//Squarespace Inc/Squarespace 6//v6//EN
BEGIN:VEVENT
UID:5e5759ee08d89501a5df97c1@squarespace.com
DTSTAMP:20200227T055612Z
DTSTART:20200411T140000Z
DTEND:20200411T210000Z
SUMMARY:Open Studios - Deborah Lee Klein &amp\; Melinda Muscat
GEO:-37.527805;143.919825
LOCATION:4 Isla Court\, Glen Park\, VIC\, 3352\, Australia
END:VEVENT
END:VCALENDAR
