BEGIN:VCALENDAR
VERSION:2.0
PRODID:-//Squarespace Inc/Squarespace 6//v6//EN
BEGIN:VEVENT
UID:5e574e79ed27505ea09761ed@squarespace.com
DTSTAMP:20200227T050722Z
DTSTART:20200411T140000Z
DTEND:20200411T210000Z
SUMMARY:Open Studios - Laura Day
GEO:-37.579044;143.858446
LOCATION:419 Cobden Street\, Mount Pleasant\, VIC\, 3350\, Australia
END:VEVENT
END:VCALENDAR
