BEGIN:VCALENDAR
VERSION:2.0
PRODID:-//Squarespace Inc/Squarespace 6//v6//EN
BEGIN:VEVENT
UID:5e574cbedb844f0ca13b62f4@squarespace.com
DTSTAMP:20200325T043241Z
DTSTART:20200404T140000Z
DTEND:20200404T210000Z
SUMMARY:Open Studios - Laura Day - CANCELLED
GEO:-37.579044;143.858446
LOCATION:419 Cobden Street\, Mount Pleasant\, VIC\, 3350\, Australia
END:VEVENT
END:VCALENDAR
