BEGIN:VCALENDAR
VERSION:2.0
PRODID:-//Squarespace Inc/Squarespace 6//v6//EN
BEGIN:VEVENT
UID:5e421d9ad767af4f34b89e1d@squarespace.com
DTSTAMP:20200220T051010Z
DTSTART:20200409T130000Z
DTEND:20200409T190000Z
SUMMARY:Open Studios - Leather Belt Making at Sovereign Hill
GEO:-37.577795;143.865043
LOCATION:Sovereign Hill Museum\, 39 Magpie Street\, Golden Point\, VIC\, 33
 50\, Australia
END:VEVENT
END:VCALENDAR
