BEGIN:VCALENDAR
VERSION:2.0
PRODID:-//Squarespace Inc/Squarespace 6//v6//EN
BEGIN:VEVENT
UID:5e574f92a362884fea89c66c@squarespace.com
DTSTAMP:20200227T051158Z
DTSTART:20200411T140000Z
DTEND:20200411T210000Z
SUMMARY:Open Studios - Linda Franklin
GEO:-37.569175;143.847658
LOCATION:South Street Studios\, 410 South St\, Ballarat Central
END:VEVENT
END:VCALENDAR
