BEGIN:VCALENDAR
VERSION:2.0
PRODID:-//Squarespace Inc/Squarespace 6//v6//EN
BEGIN:VEVENT
UID:5e574f723589c5496ff2c30c@squarespace.com
DTSTAMP:20200325T042519Z
DTSTART:20200405T140000Z
DTEND:20200405T210000Z
SUMMARY:Open Studios - Linda Franklin - CANCELLED
GEO:-37.569175;143.847658
LOCATION:South Street Studios\, 410 South St\, Ballarat Central
END:VEVENT
END:VCALENDAR
