BEGIN:VCALENDAR
VERSION:2.0
PRODID:-//Squarespace Inc/Squarespace 6//v6//EN
BEGIN:VEVENT
UID:5e4b14e9065dc80ce7fa3f26@squarespace.com
DTSTAMP:20200227T005736Z
DTSTART:20200412T190000Z
DTEND:20200412T210000Z
SUMMARY:Open Studios - Make Eco-Friendly Traditional Paints Workshop
GEO:-37.569175;143.847658
LOCATION:South Street Art Studio\, 410 South Street\, Ballarat Central\, VI
 C\, 3350\, Australia
END:VEVENT
END:VCALENDAR
