BEGIN:VCALENDAR
VERSION:2.0
PRODID:-//Squarespace Inc/Squarespace 6//v6//EN
BEGIN:VEVENT
UID:5e4334b97bcc822d980cdc24@squarespace.com
DTSTAMP:20200226T233144Z
DTSTART:20200404T140000Z
DTEND:20200404T183000Z
SUMMARY:Open Studios - Colour Printing Once More
GEO:-37.561025;143.859575
LOCATION:Trades Hall\, 24 Camp Street\, Ballarat Central
END:VEVENT
END:VCALENDAR
