BEGIN:VCALENDAR
VERSION:2.0
PRODID:-//Squarespace Inc/Squarespace 6//v6//EN
BEGIN:VEVENT
UID:5e4e17464e11e600dcb3c552@squarespace.com
DTSTAMP:20200226T233020Z
DTSTART:20200411T140000Z
DTEND:20200411T210000Z
SUMMARY:Open Studios - Maggie Dannatt Studio 
GEO:-37.568572;143.899937
LOCATION:910 Eureka Street\, Ballarat East\, VIC\, 3350\, Australia
END:VEVENT
END:VCALENDAR
