BEGIN:VCALENDAR
VERSION:2.0
PRODID:-//Squarespace Inc/Squarespace 6//v6//EN
BEGIN:VEVENT
UID:5e58a50978cc973d2b92010a@squarespace.com
DTSTAMP:20200228T052858Z
DTSTART:20200407T170000Z
DTEND:20200407T200000Z
SUMMARY:Open Studios - Superhero ceramics with Vipoo Srivilasa
GEO:-37.565402;143.857426
LOCATION:Fedderation University\, Ceramics Studio\, SMB Campus
END:VEVENT
END:VCALENDAR
