BEGIN:VCALENDAR
VERSION:2.0
PRODID:-//Squarespace Inc/Squarespace 6//v6//EN
BEGIN:VEVENT
UID:5e58a3b61992186a69751dbe@squarespace.com
DTSTAMP:20200228T052841Z
DTSTART:20200406T170000Z
DTEND:20200406T200000Z
SUMMARY:Open Studios - Superhero ceramics with Vipoo Srivilasa
GEO:-37.565402;143.857426
LOCATION:Fedderation University\, Ceramics Studio\, SMB Campus
END:VEVENT
END:VCALENDAR
