BEGIN:VCALENDAR
VERSION:2.0
PRODID:-//Squarespace Inc/Squarespace 6//v6//EN
BEGIN:VEVENT
UID:5e4e11af2921b265cf817752@squarespace.com
DTSTAMP:20200325T043557Z
DTSTART:20200404T140000Z
DTEND:20200404T210000Z
SUMMARY:Open Studios - Neville French Studio - CANCELLED
GEO:-37.659672;143.878859
LOCATION:1203 Winter Street\, Buninyong\, VIC\, 3357\, Australia
END:VEVENT
END:VCALENDAR
