BEGIN:VCALENDAR
VERSION:2.0
PRODID:-//Squarespace Inc/Squarespace 6//v6//EN
BEGIN:VEVENT
UID:5e4b254d6d8433076efd9772@squarespace.com
DTSTAMP:20200226T233347Z
DTSTART:20200405T140000Z
DTEND:20200405T210000Z
SUMMARY:Open Studios - Neville French Studio
GEO:-37.659672;143.878859
LOCATION:1203 Winter Street\, Buninyong\, VIC\, 3357\, Australia
END:VEVENT
END:VCALENDAR
