BEGIN:VCALENDAR
VERSION:2.0
PRODID:-//Squarespace Inc/Squarespace 6//v6//EN
BEGIN:VEVENT
UID:5e49ea3b5d9eed7671ccf64b@squarespace.com
DTSTAMP:20200226T232333Z
DTSTART:20200405T140000Z
DTEND:20200405T200000Z
SUMMARY:Open Studios - Plein Air Pastels at the Botanic Gardens
GEO:-37.556065;143.830823
LOCATION:Ballarat Botanic Gardens\, Wendouree Parade\, Lake Wendouree\, VIC
 \, 3350\, Australia
END:VEVENT
END:VCALENDAR
