BEGIN:VCALENDAR
VERSION:2.0
PRODID:-//Squarespace Inc/Squarespace 6//v6//EN
BEGIN:VEVENT
UID:5e49d8a587b2ad50b485c102@squarespace.com
DTSTAMP:20200220T051529Z
DTSTART:20200412T150000Z
DTEND:20200412T180000Z
SUMMARY:Open Studios - Pop Up Crochet Clinic
GEO:-37.564914;143.883741
LOCATION:Eureka Centre\, 102 Stawell Street South\, Eureka\, VIC\, 3350\, A
 ustralia
END:VEVENT
END:VCALENDAR
