BEGIN:VCALENDAR
VERSION:2.0
PRODID:-//Squarespace Inc/Squarespace 6//v6//EN
BEGIN:VEVENT
UID:5e49d13a7beeaf30f5c436b3@squarespace.com
DTSTAMP:20200227T045437Z
DTSTART:20200411T130000Z
DTEND:20200411T170000Z
SUMMARY:Open Studios - Pop Up Crochet Clinics
GEO:-37.56188;143.854024
LOCATION:Europa Cafe\, 411 Sturt Street\, Ballarat Central\, VIC\, 3350\, A
 ustralia
END:VEVENT
END:VCALENDAR
