BEGIN:VCALENDAR
VERSION:2.0
PRODID:-//Squarespace Inc/Squarespace 6//v6//EN
BEGIN:VEVENT
UID:5e49e7fd3be8c0066df8b988@squarespace.com
DTSTAMP:20200226T232937Z
DTSTART:20200408T140000Z
DTEND:20200408T170000Z
SUMMARY:Open Studios - Recycled Bottles workshop
GEO:-37.559776;143.858363
LOCATION:Claymotion\, 34A Mair Street\, Ballarat Central\, VIC\, 3350\, Aus
 tralia
END:VEVENT
END:VCALENDAR
