BEGIN:VCALENDAR
VERSION:2.0
PRODID:-//Squarespace Inc/Squarespace 6//v6//EN
BEGIN:VEVENT
UID:5e49e25796cdbe0b66adc69a@squarespace.com
DTSTAMP:20200226T232652Z
DTSTART:20200405T170000Z
DTEND:20200405T200000Z
SUMMARY:Open Studios - Soul Medicine Workshop
GEO:-37.579044;143.858446
LOCATION:Laura Day Studio\, 419 Cobden Street\, Mount Pleasant\, VIC\, 3350
 \, Australia
END:VEVENT
END:VCALENDAR
