BEGIN:VCALENDAR
VERSION:2.0
PRODID:-//Squarespace Inc/Squarespace 6//v6//EN
BEGIN:VEVENT
UID:5e421d6fa88bd66185ccac80@squarespace.com
DTSTAMP:20200218T053731Z
DTSTART:20200403T200000Z
DTEND:20200403T210000Z
SUMMARY:Open Studios - Sovereign Hill Costume Department
GEO:-37.577795;143.865043
LOCATION:Sovereign Hill Museum\, 39 Magpie Street\, Golden Point\, VIC\, 33
 50\, Australia
END:VEVENT
END:VCALENDAR
