BEGIN:VCALENDAR
VERSION:2.0
PRODID:-//Squarespace Inc/Squarespace 6//v6//EN
BEGIN:VEVENT
UID:5e41e32cae4672589fed5b1f@squarespace.com
DTSTAMP:20200218T053341Z
DTSTART:20200403T190000Z
DTEND:20200403T200000Z
SUMMARY:Open Studios - Sovereign Hill Costume Department
GEO:-37.577795;143.865043
LOCATION:Sovereign Hill Museum\, 39 Magpie Street\, Golden Point\, VIC\, 33
 50\, Australia
END:VEVENT
END:VCALENDAR
