BEGIN:VCALENDAR
VERSION:2.0
PRODID:-//Squarespace Inc/Squarespace 6//v6//EN
BEGIN:VEVENT
UID:5e421fc82aa7a072e9d42ea6@squarespace.com
DTSTAMP:20200220T050904Z
DTSTART:20200407T060000Z
DTEND:20200407T210000Z
SUMMARY:Open Studios - Heritage Dressmaking Stitches at Sovereign Hill
GEO:-37.577795;143.865043
LOCATION:Sovereign Hill Museum\, 39 Magpie Street\, Golden Point\, VIC\, 33
 50\, Australia
END:VEVENT
END:VCALENDAR
