BEGIN:VCALENDAR
VERSION:2.0
PRODID:-//Squarespace Inc/Squarespace 6//v6//EN
BEGIN:VEVENT
UID:5e575074131a7053435908ad@squarespace.com
DTSTAMP:20200227T051546Z
DTSTART:20200405T140000Z
DTEND:20200405T210000Z
SUMMARY:Open Studios - Susan Nethercote 
GEO:-37.548032;143.86187
LOCATION:608 Neill Street\, Soldiers Hill\, VIC\, 3350\, Australia
END:VEVENT
END:VCALENDAR
