BEGIN:VCALENDAR
VERSION:2.0
PRODID:-//Squarespace Inc/Squarespace 6//v6//EN
BEGIN:VEVENT
UID:5e574fc24e2df005309d2604@squarespace.com
DTSTAMP:20200227T051532Z
DTSTART:20200404T140000Z
DTEND:20200404T210000Z
SUMMARY:Open Studios - Susan Nethercote 
GEO:-37.548032;143.86187
LOCATION:608 Neill Street\, Soldiers Hill\, VIC\, 3350\, Australia
END:VEVENT
END:VCALENDAR
